BEGIN:VCALENDAR
VERSION:2.0
PRODID:-//da-vinci.be - ECPv6.15.20//NONSGML v1.0//EN
CALSCALE:GREGORIAN
METHOD:PUBLISH
X-WR-CALNAME:da-vinci.be
X-ORIGINAL-URL:https://da-vinci.be
X-WR-CALDESC:Events for da-vinci.be
REFRESH-INTERVAL;VALUE=DURATION:PT1H
X-Robots-Tag:noindex
X-PUBLISHED-TTL:PT1H
BEGIN:VTIMEZONE
TZID:Europe/Brussels
BEGIN:DAYLIGHT
TZOFFSETFROM:+0100
TZOFFSETTO:+0200
TZNAME:CEST
DTSTART:20230326T010000
END:DAYLIGHT
BEGIN:STANDARD
TZOFFSETFROM:+0200
TZOFFSETTO:+0100
TZNAME:CET
DTSTART:20231029T010000
END:STANDARD
BEGIN:DAYLIGHT
TZOFFSETFROM:+0100
TZOFFSETTO:+0200
TZNAME:CEST
DTSTART:20240331T010000
END:DAYLIGHT
BEGIN:STANDARD
TZOFFSETFROM:+0200
TZOFFSETTO:+0100
TZNAME:CET
DTSTART:20241027T010000
END:STANDARD
BEGIN:DAYLIGHT
TZOFFSETFROM:+0100
TZOFFSETTO:+0200
TZNAME:CEST
DTSTART:20250330T010000
END:DAYLIGHT
BEGIN:STANDARD
TZOFFSETFROM:+0200
TZOFFSETTO:+0100
TZNAME:CET
DTSTART:20251026T010000
END:STANDARD
END:VTIMEZONE
BEGIN:VEVENT
DTSTART;VALUE=DATE:20241004
DTEND;VALUE=DATE:20241005
DTSTAMP:20260425T120531
CREATED:20240930T151540Z
LAST-MODIFIED:20241004T160117Z
UID:12183-1728000000-1728086399@da-vinci.be
SUMMARY:G2/3 Field Trip to Chocolate Museum
DESCRIPTION:
URL:https://da-vinci.be/event/g2-3-field-trip-to-chocolate-museum-tbc/
END:VEVENT
BEGIN:VEVENT
DTSTART;VALUE=DATE:20241007
DTEND;VALUE=DATE:20241008
DTSTAMP:20260425T120531
CREATED:20240930T151540Z
LAST-MODIFIED:20241007T163514Z
UID:12184-1728259200-1728345599@da-vinci.be
SUMMARY:PS/PK/KG Trip to the Animal Farm
DESCRIPTION:
URL:https://da-vinci.be/event/ps-pk-kg-trip-to-the-animal-farm/
END:VEVENT
BEGIN:VEVENT
DTSTART;VALUE=DATE:20241009
DTEND;VALUE=DATE:20241010
DTSTAMP:20260425T120531
CREATED:20241001T151722Z
LAST-MODIFIED:20241003T180514Z
UID:12274-1728432000-1728518399@da-vinci.be
SUMMARY:TEST
DESCRIPTION:
URL:https://da-vinci.be/event/test/
END:VEVENT
BEGIN:VEVENT
DTSTART;VALUE=DATE:20241010
DTEND;VALUE=DATE:20241011
DTSTAMP:20260425T120531
CREATED:20241009T202113Z
LAST-MODIFIED:20241010T203536Z
UID:12360-1728518400-1728604799@da-vinci.be
SUMMARY:Hangul Day Celebration in Primary
DESCRIPTION:
URL:https://da-vinci.be/event/hangul-day-celebration-in-primary/
END:VEVENT
BEGIN:VEVENT
DTSTART;VALUE=DATE:20241016
DTEND;VALUE=DATE:20241017
DTSTAMP:20260425T120531
CREATED:20241009T202113Z
LAST-MODIFIED:20241016T223118Z
UID:12361-1729036800-1729123199@da-vinci.be
SUMMARY:PTA Bake Sale
DESCRIPTION:
URL:https://da-vinci.be/event/pta-bake-sale/
END:VEVENT
BEGIN:VEVENT
DTSTART;VALUE=DATE:20241017
DTEND;VALUE=DATE:20241018
DTSTAMP:20260425T120531
CREATED:20240930T151540Z
LAST-MODIFIED:20241017T184128Z
UID:12185-1729123200-1729209599@da-vinci.be
SUMMARY:KG Field Trip
DESCRIPTION:
URL:https://da-vinci.be/event/kg-field-trip-tbc/
END:VEVENT
BEGIN:VEVENT
DTSTART;VALUE=DATE:20241023
DTEND;VALUE=DATE:20241024
DTSTAMP:20260425T120531
CREATED:20240930T151835Z
LAST-MODIFIED:20241023T225651Z
UID:12208-1729641600-1729727999@da-vinci.be
SUMMARY:MYP/DP Progress Update
DESCRIPTION:
URL:https://da-vinci.be/event/myp-dp-progress-update/
END:VEVENT
BEGIN:VEVENT
DTSTART;VALUE=DATE:20241025
DTEND;VALUE=DATE:20241026
DTSTAMP:20260425T120531
CREATED:20241002T164855Z
LAST-MODIFIED:20241025T012634Z
UID:12299-1729814400-1729900799@da-vinci.be
SUMMARY:Halloween Celebration
DESCRIPTION:
URL:https://da-vinci.be/event/halloween-celebration/
END:VEVENT
BEGIN:VEVENT
DTSTART;VALUE=DATE:20241028
DTEND;VALUE=DATE:20241102
DTSTAMP:20260425T120531
CREATED:20240930T152050Z
LAST-MODIFIED:20241101T031330Z
UID:12225-1730073600-1730505599@da-vinci.be
SUMMARY:Half-Term Break (No School)
DESCRIPTION:
URL:https://da-vinci.be/event/half-term-break-no-school/
END:VEVENT
END:VCALENDAR