BEGIN:VCALENDAR
VERSION:2.0
PRODID:-//da-vinci.be - ECPv6.15.20//NONSGML v1.0//EN
CALSCALE:GREGORIAN
METHOD:PUBLISH
X-WR-CALNAME:da-vinci.be
X-ORIGINAL-URL:https://da-vinci.be
X-WR-CALDESC:Events for da-vinci.be
REFRESH-INTERVAL;VALUE=DURATION:PT1H
X-Robots-Tag:noindex
X-PUBLISHED-TTL:PT1H
BEGIN:VTIMEZONE
TZID:UTC
BEGIN:STANDARD
TZOFFSETFROM:+0000
TZOFFSETTO:+0000
TZNAME:UTC
DTSTART:20230101T000000
END:STANDARD
END:VTIMEZONE
BEGIN:VEVENT
DTSTART;TZID=UTC:20240601T080000
DTEND;TZID=UTC:20240601T170000
DTSTAMP:20260422T150934
CREATED:20240521T073453Z
LAST-MODIFIED:20240521T073453Z
UID:10603-1717228800-1717261200@da-vinci.be
SUMMARY:Summer Fair
DESCRIPTION:
URL:https://da-vinci.be/event/summer-fair/
CATEGORIES:School Event
END:VEVENT
BEGIN:VEVENT
DTSTART;TZID=UTC:20240603T080000
DTEND;TZID=UTC:20240603T170000
DTSTAMP:20260422T150934
CREATED:20240521T073540Z
LAST-MODIFIED:20240521T073540Z
UID:10605-1717401600-1717434000@da-vinci.be
SUMMARY:G2 & G3 Field Trip Hidrodoe
DESCRIPTION:
URL:https://da-vinci.be/event/g2-g3-field-trip-hidrodoe/
CATEGORIES:Field Trip
END:VEVENT
BEGIN:VEVENT
DTSTART;TZID=UTC:20240605T080000
DTEND;TZID=UTC:20240605T170000
DTSTAMP:20260422T150934
CREATED:20240206T134424Z
LAST-MODIFIED:20240206T134424Z
UID:8251-1717574400-1717606800@da-vinci.be
SUMMARY:World Environment Day
DESCRIPTION:
URL:https://da-vinci.be/event/world-environment-day/
END:VEVENT
BEGIN:VEVENT
DTSTART;TZID=UTC:20240605T080000
DTEND;TZID=UTC:20240605T170000
DTSTAMP:20260422T150934
CREATED:20240521T073308Z
LAST-MODIFIED:20240521T073404Z
UID:10601-1717574400-1717606800@da-vinci.be
SUMMARY:Cambridge English Exams
DESCRIPTION:
URL:https://da-vinci.be/event/cambridge-english-exams/
CATEGORIES:Examinations
END:VEVENT
BEGIN:VEVENT
DTSTART;TZID=UTC:20240605T113000
DTEND;TZID=UTC:20240605T170000
DTSTAMP:20260422T150934
CREATED:20240521T073646Z
LAST-MODIFIED:20240521T073646Z
UID:10607-1717587000-1717606800@da-vinci.be
SUMMARY:Parent Coffee Morning
DESCRIPTION:
URL:https://da-vinci.be/event/parent-coffee-morning-3/
CATEGORIES:School Event
END:VEVENT
BEGIN:VEVENT
DTSTART;TZID=UTC:20240607T080000
DTEND;TZID=UTC:20240607T170000
DTSTAMP:20260422T150934
CREATED:20240521T073718Z
LAST-MODIFIED:20240521T073718Z
UID:10609-1717747200-1717779600@da-vinci.be
SUMMARY:Secondary Sports Day
DESCRIPTION:
URL:https://da-vinci.be/event/secondary-sports-day/
CATEGORIES:Field Trip
END:VEVENT
BEGIN:VEVENT
DTSTART;TZID=UTC:20240611T080000
DTEND;TZID=UTC:20240611T170000
DTSTAMP:20260422T150934
CREATED:20240206T134317Z
LAST-MODIFIED:20240206T134317Z
UID:8249-1718092800-1718125200@da-vinci.be
SUMMARY:Last Day of School
DESCRIPTION:
URL:https://da-vinci.be/event/last-day-of-school/
END:VEVENT
BEGIN:VEVENT
DTSTART;TZID=UTC:20240612T113000
DTEND;TZID=UTC:20240612T170000
DTSTAMP:20260422T150934
CREATED:20240521T073814Z
LAST-MODIFIED:20240521T073814Z
UID:10611-1718191800-1718211600@da-vinci.be
SUMMARY:Parent Coffee Morning
DESCRIPTION:
URL:https://da-vinci.be/event/parent-coffee-morning-4/
CATEGORIES:School Event
END:VEVENT
BEGIN:VEVENT
DTSTART;TZID=UTC:20240614T080000
DTEND;TZID=UTC:20240614T170000
DTSTAMP:20260422T150934
CREATED:20240521T073851Z
LAST-MODIFIED:20240521T073851Z
UID:10613-1718352000-1718384400@da-vinci.be
SUMMARY:PS/PK PicNic
DESCRIPTION:
URL:https://da-vinci.be/event/ps-pk-picnic/
CATEGORIES:Field Trip
END:VEVENT
BEGIN:VEVENT
DTSTART;TZID=UTC:20240617T080000
DTEND;TZID=UTC:20240621T170000
DTSTAMP:20260422T150934
CREATED:20240521T073943Z
LAST-MODIFIED:20240521T073943Z
UID:10615-1718611200-1718989200@da-vinci.be
SUMMARY:G11-G12 Semester 2 Assessment Window
DESCRIPTION:
URL:https://da-vinci.be/event/g11-g12-semester-2-assessment-window/
CATEGORIES:Examinations
END:VEVENT
BEGIN:VEVENT
DTSTART;TZID=UTC:20240619T113000
DTEND;TZID=UTC:20240619T170000
DTSTAMP:20260422T150934
CREATED:20240521T074036Z
LAST-MODIFIED:20240521T074036Z
UID:10617-1718796600-1718816400@da-vinci.be
SUMMARY:Parent Coffee Morning
DESCRIPTION:
URL:https://da-vinci.be/event/parent-coffee-morning-5/
CATEGORIES:School Event
END:VEVENT
BEGIN:VEVENT
DTSTART;TZID=UTC:20240624T080000
DTEND;TZID=UTC:20240625T170000
DTSTAMP:20260422T150934
CREATED:20240521T074115Z
LAST-MODIFIED:20240521T074115Z
UID:10619-1719216000-1719334800@da-vinci.be
SUMMARY:G11-G12 Semester 2 Assessment Window
DESCRIPTION:
URL:https://da-vinci.be/event/g11-g12-semester-2-assessment-window-2/
CATEGORIES:Examinations
END:VEVENT
BEGIN:VEVENT
DTSTART;TZID=UTC:20240625T080000
DTEND;TZID=UTC:20240625T170000
DTSTAMP:20260422T150934
CREATED:20240521T074156Z
LAST-MODIFIED:20240521T074156Z
UID:10621-1719302400-1719334800@da-vinci.be
SUMMARY:Last Day of School for Students
DESCRIPTION:
URL:https://da-vinci.be/event/last-day-of-school-for-students/
CATEGORIES:School Event
END:VEVENT
BEGIN:VEVENT
DTSTART;TZID=UTC:20240626T080000
DTEND;TZID=UTC:20240901T170000
DTSTAMP:20260422T150934
CREATED:20240521T074327Z
LAST-MODIFIED:20240521T074327Z
UID:10623-1719388800-1725210000@da-vinci.be
SUMMARY:Summer Holiday
DESCRIPTION:
URL:https://da-vinci.be/event/summer-holiday/
CATEGORIES:No School
END:VEVENT
END:VCALENDAR