BEGIN:VCALENDAR
VERSION:2.0
PRODID:-//da-vinci.be - ECPv6.15.20//NONSGML v1.0//EN
CALSCALE:GREGORIAN
METHOD:PUBLISH
X-ORIGINAL-URL:https://da-vinci.be
X-WR-CALDESC:Events for da-vinci.be
REFRESH-INTERVAL;VALUE=DURATION:PT1H
X-Robots-Tag:noindex
X-PUBLISHED-TTL:PT1H
BEGIN:VTIMEZONE
TZID:UTC
BEGIN:STANDARD
TZOFFSETFROM:+0000
TZOFFSETTO:+0000
TZNAME:UTC
DTSTART:20230101T000000
END:STANDARD
END:VTIMEZONE
BEGIN:VEVENT
DTSTART;TZID=UTC:20240220T080000
DTEND;TZID=UTC:20240220T170000
DTSTAMP:20260424T135532
CREATED:20240206T135906Z
LAST-MODIFIED:20240206T135906Z
UID:8287-1708416000-1708448400@da-vinci.be
SUMMARY:Founding Day Celebration
DESCRIPTION:
URL:https://da-vinci.be/event/founding-day-celebration/
END:VEVENT
BEGIN:VEVENT
DTSTART;TZID=UTC:20240221T080000
DTEND;TZID=UTC:20240222T170000
DTSTAMP:20260424T135532
CREATED:20240206T135816Z
LAST-MODIFIED:20240206T135816Z
UID:8284-1708502400-1708621200@da-vinci.be
SUMMARY:KSA Founding Day
DESCRIPTION:
URL:https://da-vinci.be/event/ksa-founding-day/
END:VEVENT
BEGIN:VEVENT
DTSTART;TZID=UTC:20240228T080000
DTEND;TZID=UTC:20240228T170000
DTSTAMP:20260424T135532
CREATED:20240206T135708Z
LAST-MODIFIED:20240206T135708Z
UID:8282-1709107200-1709139600@da-vinci.be
SUMMARY:Teachers' Day/Stay and Play in Kindergarten 9.30am - 11.30am
DESCRIPTION:
URL:https://da-vinci.be/event/teachers-day-stay-and-play-in-kindergarten-9-30am-11-30am/
END:VEVENT
END:VCALENDAR